BEGIN:VCALENDAR
VERSION:2.0
PRODID:-//https://preview.fit-mom.at///NONSGML kigkonsult.se iCalcreator 2.10.15//
METHOD:PUBLISH
BEGIN:VEVENT
UID:20260424T151127UTC-7879F9Etg7@https://preview.fit-mom.at/
DTSTAMP:20260424T151127Z
DESCRIPTION:30.Mai 2026 - SAVE THE DATE!!!!\nWir laden euch herzlich zu uns
 erem fitmom austria get together ein! Am Samstag\, 30.Mai 2026 im Venedige
 r Au Park \, 1020 Wien\n(direkt neben dem Wiener Prater)\n&nbsp\;\nWas erw
 artet dich:\n* kostenloses fitmom Training\n* Tolle Gewinnspiele (Gewinne 
 werden noch bekannt gegeben)\n* Expert:innen Wiese mit Top-Produkte und Di
 enstleistungen aus der Eltern-Baby-Welt zum Kennenlernen\n&nbsp\;\n𝗔𝗕𝗟𝗔𝗨𝗙:
 - bis 9:30: Check In im Venediger Au Park (venediger Au 11\, 1020 Wien)\n-
  ausfüllen der Gewinnspielkarten\n&nbsp\;\n10 Uhr:\n- *kostenloses fitmom 
 Training (für Bestands- und NeukundInnen)\n&nbsp\;\n11 Uhr:\nExpertenWiese
 :-&nbsp\;Top-Produkte und Dienstleistungen aus der Eltern-Baby_Welt zum Ke
 nnenlernen\n&nbsp\;\n12 Uhr:\n- große Gewinnspiel Auslosung\n&nbsp\;\nWir 
 freuen uns schon sehr auf ein tolles Event mit euch! Eure fitmom austria T
 rainerinnen https://preview.fit-mom.at/kurskalender/ereignis/6857-fitmom-g
 et-together
DTSTART:20260530T073000Z
DTEND:20260530T110000Z
LOCATION:Venediger Au Park (1020 Wien) (Venediger Au\, 1020\, 2. Bezirk Leo
 poldstadt\, Wien)
SUMMARY:fitmom get together
URL:https://preview.fit-mom.at/kurskalender/ereignis/6857-fitmom-get-togeth
 er
END:VEVENT
END:VCALENDAR
